BEGIN:VCALENDAR
VERSION:2.0
PRODID:-//spanienkaempfer.de - ECPv6.15.20//NONSGML v1.0//EN
CALSCALE:GREGORIAN
METHOD:PUBLISH
X-WR-CALNAME:spanienkaempfer.de
X-ORIGINAL-URL:https://www.kfsr.info
X-WR-CALDESC:Veranstaltungen fÃ¼r spanienkaempfer.de
REFRESH-INTERVAL;VALUE=DURATION:PT1H
X-Robots-Tag:noindex
X-PUBLISHED-TTL:PT1H
BEGIN:VTIMEZONE
TZID:Europe/Berlin
BEGIN:DAYLIGHT
TZOFFSETFROM:+0100
TZOFFSETTO:+0200
TZNAME:CEST
DTSTART:20250330T010000
END:DAYLIGHT
BEGIN:STANDARD
TZOFFSETFROM:+0200
TZOFFSETTO:+0100
TZNAME:CET
DTSTART:20251026T010000
END:STANDARD
BEGIN:DAYLIGHT
TZOFFSETFROM:+0100
TZOFFSETTO:+0200
TZNAME:CEST
DTSTART:20260329T010000
END:DAYLIGHT
BEGIN:STANDARD
TZOFFSETFROM:+0200
TZOFFSETTO:+0100
TZNAME:CET
DTSTART:20261025T010000
END:STANDARD
BEGIN:DAYLIGHT
TZOFFSETFROM:+0100
TZOFFSETTO:+0200
TZNAME:CEST
DTSTART:20270328T010000
END:DAYLIGHT
BEGIN:STANDARD
TZOFFSETFROM:+0200
TZOFFSETTO:+0100
TZNAME:CET
DTSTART:20271031T010000
END:STANDARD
END:VTIMEZONE
BEGIN:VEVENT
DTSTART;VALUE=DATE:20260401
DTEND;VALUE=DATE:20260801
DTSTAMP:20260423T114956
CREATED:20260203T232334Z
LAST-MODIFIED:20260316T212807Z
UID:8985-1775001600-1785542399@www.kfsr.info
SUMMARY:[:de]Sonderausstellung Fred Stein und der Spanische BÃ¼rgerkrieg im Capa-Haus Leipzig[:]
DESCRIPTION:Eine Kooperation des Deutschen Exilarchivs 1933â€“1945 der Deutschen Nationalbibliothek und des Stadtgeschichtlichen Museums Leipzig\, in Zusammenarbeit mit dem Fred Stein Archive und der SchaubÃ¼hne Lindenfels
URL:https://www.kfsr.info/event/fredstein/
LOCATION:Capa-Haus\, Jahnallee 61\, Leipzig\, Sachsen-Anhalt\, 04177\, Germany
CATEGORIES:Ausstellung,Nationale und Internationale Veranstaltungen
END:VEVENT
BEGIN:VEVENT
DTSTART;VALUE=DATE:20260425
DTEND;VALUE=DATE:20260427
DTSTAMP:20260423T114956
CREATED:20260226T204937Z
LAST-MODIFIED:20260226T204937Z
UID:9582-1777075200-1777247999@www.kfsr.info
SUMMARY:[:de]Gedenken an die Bombardierung von Guernica[:]
DESCRIPTION:Guernicaplatz/Spanische Allee\, Berlin-Zehlendorf \nGenauere Informationen und der genaue Termin folgen noch!
URL:https://www.kfsr.info/event/gedenken-an-die-bombardierung-von-guernica/
LOCATION:Guernica-Platz in Zehlendorf\, Spanische Allee / Ecke Breisgauer Strasse\, Berlin
CATEGORIES:[:de]KFSR-Veranstaltungen[:],Nationale und Internationale Veranstaltungen
ORGANIZER;CN="[%3Ade]KFSR[%3Aen]KFSR 1936 - 1939 e. V.[%3A]":MAILTO:info [at] spanienkaempfer.de
END:VEVENT
BEGIN:VEVENT
DTSTART;VALUE=DATE:20260425
DTEND;VALUE=DATE:20260427
DTSTAMP:20260423T114956
CREATED:20260301T220724Z
LAST-MODIFIED:20260301T222358Z
UID:9589-1777075200-1777247999@www.kfsr.info
SUMMARY:[:de]Ernst-Busch-Chor in Potsdam-Babelsberg[:]
DESCRIPTION:Der Ernst-Busch-Chor wird in Potsdam-Babelsberg auftreten.\nEs wird organisiert von der\nGeschichtswerkstatt Rotes Nowawes e.V.\nIm Programm des Chors sind zahlreiche kÃ¤mpferische Lieder \naus Spanien. Der Termin steht noch nicht endgÃ¼ltig fest\, wird\naber am Wochenende 25.04./26.04.2026 stattfinden)\n\n(Mehr Informationen folgen!)
URL:https://www.kfsr.info/event/ernst-busch-chor-in-potsdam-babelsberg/
CATEGORIES:[:de]KFSR-Veranstaltungen[:],Nationale und Internationale Veranstaltungen
ORGANIZER;CN="[%3Ade]Geschichtswerkstatt Rotes Nowawes e.V.[%3Aen]Rotes Nowawes[%3A]":MAILTO:kontakt@rotes-nowawes.de
END:VEVENT
BEGIN:VEVENT
DTSTART;TZID=Europe/Berlin:20260616T080000
DTEND;TZID=Europe/Berlin:20260616T170000
DTSTAMP:20260423T114956
CREATED:20260203T230912Z
LAST-MODIFIED:20260226T205315Z
UID:8979-1781596800-1781629200@www.kfsr.info
SUMMARY:[:de]Deutsche im Kampf der spanischen Volksfront -  ThÃ¤lmann-Bataillon [:]
DESCRIPTION:Deutsche im Kampf der spanischen Volksfront 1936 â€“ 1939. Vortrag von Ewald P. Schulz in Zusammenarbeit mit Rotfuchs-Regionalgruppe Marzahn-Hellersdorf. \n 
URL:https://www.kfsr.info/event/die-internationalen-brigaden-thaelmann-bataillon/
LOCATION:Freizeitforum Marzahn\, Marzahner Promenade 55\, Berlin\, Berlin\, 12679\, Germany
CATEGORIES:[:de]KFSR-Veranstaltungen[:],Nationale und Internationale Veranstaltungen
END:VEVENT
BEGIN:VEVENT
DTSTART;TZID=Europe/Berlin:20260718T100000
DTEND;TZID=Europe/Berlin:20260719T200000
DTSTAMP:20260423T114956
CREATED:20260203T231211Z
LAST-MODIFIED:20260316T214216Z
UID:8982-1784368800-1784491200@www.kfsr.info
SUMMARY:[:de]Symposium Ã¼ber die Internationalen Brigaden[:]
DESCRIPTION:Wissenschaftliches Symposium zum Beginn des Spanischen Krieges 1936-1939 in Zusammenarbeit mit dem Willi MÃ¼nzenberg-Forum. U.a. mit Werner Abel\, Dieter Nelles und Reiner Tosstorff (weitere Referenten angefragt). \nDas Symposium ist eine Kooperation mit dem MÃ¼nzenbergforum (https://www.muenzenbergforum.de/) \nVeranstaltung findet im Seminarraum 1 statt!
URL:https://www.kfsr.info/event/symposium-ueber-die-internationalen-brigaden/
LOCATION:nd-GebÃ¤ude\, FMP 1\, Franz-Mehring-Platz 1\, Berlin\, 10243
CATEGORIES:[:de]KFSR-Veranstaltungen[:],Ausstellung,Nationale und Internationale Veranstaltungen
END:VEVENT
BEGIN:VEVENT
DTSTART;VALUE=DATE:20260828
DTEND;VALUE=DATE:20260831
DTSTAMP:20260423T114956
CREATED:20260204T022353Z
LAST-MODIFIED:20260226T204658Z
UID:8989-1787875200-1788134399@www.kfsr.info
SUMMARY:[:de]UZ-Friedensfest - Fest des Friedens und der SolidaritÃ¤t[:]
DESCRIPTION:Stand des KFSR e.V. auf dem UZ-Friedensfest \nâ€žGemeinsam kÃ¤mpfen â€“ gemeinsam feiern!â€œ â€“ Das ist das Motto der UZ-Friedenstage in Berlin. An drei Tagen treten im und um das ehemalige ND-GebÃ¤ude (FMP1) zahlreiche KÃ¼nstlerinnen und KÃ¼nstler auf\, Autorinnen und Autoren lesen aus ihren BÃ¼chern und Gedichte. Aktive aus der Arbeiter- und Friedensbewegung diskutieren Ã¼ber das\, was viele umtreibt: Wie kÃ¶nnen wir die Kriegstreiber stoppen? Was tun gegen die Stationierung neuer US-Raketen in Deutschland? Wie kÃ¤mpfen wir gemeinsam fÃ¼r Heizung\, Brot und Frieden? Die SDAJ stellt ihre Kampagne â€žEure Kriege â€“ Ohne uns!â€œ vor\, Friedensinitiativen aus ganz Deutschland berichten von ihrer Arbeit\, die â€žjunge Weltâ€œ von ihrem Prozess gegen die BRD. In einer Matinee erinnern wir an ein Deutschland\, das von Grund auf friedenstÃ¼chtig war\, an die DDR. \nDie UZ-Friedenstage sind ein Fest der Internationalen SolidaritÃ¤t. Mehr als 20 Vertreterinnen und Vertreter kommunistischer und Arbeiterparteien sind zu Gast und gestalten mit uns das Programm. SolidaritÃ¤t mit Kuba und PalÃ¤stina\, Frieden und Freundschaft mit Russland und China â€“ das ist der Geist der UZ-Friedenstage. Im kubanischen Garten gibt es Cocktails und Cubita. An vielen StÃ¤nden neben Infos auch Speisen und GetrÃ¤nke zu kleinen Preisen. In einer Zeit\, in der Deutschland â€žkriegstÃ¼chtigâ€œ werden soll\, brauchen wir Orte\, um uns zu verstÃ¤ndigen und Kraft zu tanken. Die UZ-Friedenstage sind ein solcher Ort! Auf nach Berlin zu den UZ-Friedenstagen vom 23. bis 25. August\, Franz-Mehring-Platz 1 NÃ¤he Ostbahnhof. \nQuelle: http://pressefest.unsere-zeit.de/programm-2/
URL:https://www.kfsr.info/event/uz-pressefest-fest-des-friedens-und-der-solidaritaet/
LOCATION:nd-GebÃ¤ude\, FMP 1\, Franz-Mehring-Platz 1\, Berlin\, 10243
CATEGORIES:Nationale und Internationale Veranstaltungen
END:VEVENT
BEGIN:VEVENT
DTSTART;VALUE=DATE:20260926
DTEND;VALUE=DATE:20260927
DTSTAMP:20260423T114956
CREATED:20260301T221849Z
LAST-MODIFIED:20260301T222235Z
UID:9593-1790380800-1790467199@www.kfsr.info
SUMMARY:[:de]Ausstellung im Potsdamer Freiland[:]
DESCRIPTION:Am Nachmittag wird im Potsdamer Freiland eine Veranstaltung im Kontext\ndes Jahrestages des Spanischen BÃ¼rgerkriegs und Aufstellung\nder Interbrigaden\, in Zusammenarbeit mit VVN-BdA Potsdam und VVN-BdA MOL\nund den KFSR. VortrÃ¤ge\, kÃ¼nstlerisches Programm und auch eine Ausstellung\nist geplant. Die Ausstellung soll nur fÃ¼r diesen Tag gezeigt werden.\nVeranstaltungsort ist das Haus Zwei auf dem Freiland-GelÃ¤nde.\n\n(Mehr Infos folgen!)
URL:https://www.kfsr.info/event/ausstellung-im-potsdamer-freiland/
LOCATION:Potsdamer Freiland
CATEGORIES:[:de]KFSR-Veranstaltungen[:],Nationale und Internationale Veranstaltungen
ORGANIZER;CN="[%3Ade]KFSR[%3Aen]KFSR 1936 - 1939 e. V.[%3A]":MAILTO:info [at] spanienkaempfer.de
END:VEVENT
BEGIN:VEVENT
DTSTART;VALUE=DATE:20261016
DTEND;VALUE=DATE:20261019
DTSTAMP:20260423T114956
CREATED:20260204T022811Z
LAST-MODIFIED:20260226T203039Z
UID:8991-1792108800-1792367999@www.kfsr.info
SUMMARY:[:de]KFSR Jahrestreffen 2026[:]
DESCRIPTION:Eine genaue Ãœbersicht der Treffpunkte und Veranstaltungen folgen noch!
URL:https://www.kfsr.info/event/kfsr-jahrestreffen-2026/
ORGANIZER;CN="[%3Ade]KFSR[%3Aen]KFSR 1936 - 1939 e. V.[%3A]":MAILTO:info [at] spanienkaempfer.de
END:VEVENT
BEGIN:VEVENT
DTSTART;VALUE=DATE:20261106
DTEND;VALUE=DATE:20261109
DTSTAMP:20260423T114956
CREATED:20260204T023051Z
LAST-MODIFIED:20260226T203012Z
UID:8993-1793923200-1794182399@www.kfsr.info
SUMMARY:[:de]La Fatarella - Reise nach Spanien (Katalonien)[:]
DESCRIPTION:Treffen in La Fatarella /Katalonien \nAnlÃ¤sslich des 88. Jahrestages des Endes der Ebroschlacht wird das diesjÃ¤hrige Treffen vom  \n06. November 2026 bis 08. November 2026 in La Fatarella stattfinden \nIm Mittelpunkt wird dabei das Anbringen von weiteren Tafeln fÃ¼r die KÃ¤mpfer der Internationalen Brigaden im Bosc de la Memoria â€žJordi BanquÃ©â€œ stehen.  \nChristiane Mathejka\, Stefan Loibl und Ulrike Rom werden diese Veranstaltung gemeinsam mit unseren Kooperationspartnern Lo Riu und der ACER vorbereiten.  \nBei Interesse an einer Teilnahme an der Veranstaltung im November\, der Stiftung einer Plakette oder einer Spende fÃ¼r den Bosce la Memoria â€žJordi BanquÃ© â€œ meldet euch bitte.  \nÃœber weitere Details zum Programm informieren rechtzeitig.  \nDie Anreise und die Unterkunft sind persÃ¶nlich und individuell zu organisieren. Wir unterstÃ¼tzen euch in bewÃ¤hrter Weise.  \nSpenden erbitten wir unter:  \nSpendenkonto KFSR e.V. \nIBAN DE40 1005 0000 6600 3988 66 \nBIC: BELADEBEXXX \nSpende: La Fatarella  \nUlrike Rom
URL:https://www.kfsr.info/event/la-fatarella-reise-nach-spanien-katalonien/
LOCATION:La Fatarella\, La Fatarella\, Katalonien\, Spanien
CATEGORIES:[:de]KFSR-Veranstaltungen[:],Nationale und Internationale Veranstaltungen
END:VEVENT
BEGIN:VEVENT
DTSTART;TZID=Europe/Berlin:20261117T100000
DTEND;TZID=Europe/Berlin:20261117T200000
DTSTAMP:20260423T114956
CREATED:20260204T023552Z
LAST-MODIFIED:20260226T205508Z
UID:8995-1794909600-1794945600@www.kfsr.info
SUMMARY:[:de]Feier 90. Jahrestag der GrÃ¼ndung der  Internationalen Brigaden[:]
DESCRIPTION:Veranstaltung des Ostdeutschen Kuratoriums von VerbÃ¤nden e.V. (OKV) in Zusammenarbeit mit dem KFSR e.V. zum 90. Jahrestag der GrÃ¼ndung der Internationalen Brigaden.
URL:https://www.kfsr.info/event/feier-90-jahrestag-der-gruendung-der-internationalen-brigaden/
LOCATION:MÃ¼nzenbergsaal\, (nd-GebÃ¤ude)\, Franz-Mehring-Platz 1\, Berlin-Friedrichshain\, 10243
CATEGORIES:[:de]KFSR-Veranstaltungen[:],Nationale und Internationale Veranstaltungen
ORGANIZER;CN="[%3Ade]KFSR[%3Aen]KFSR 1936 - 1939 e. V.[%3A]":MAILTO:info [at] spanienkaempfer.de
END:VEVENT
END:VCALENDAR